BEGIN:VCALENDAR
VERSION:2.0
PRODID:-//Kay Gottschalk | Mitglied des Deutschen Bundestages - ECPv6.15.20//NONSGML v1.0//EN
CALSCALE:GREGORIAN
METHOD:PUBLISH
X-ORIGINAL-URL:https://afd-gottschalk.de
X-WR-CALDESC:Veranstaltungen für Kay Gottschalk | Mitglied des Deutschen Bundestages
REFRESH-INTERVAL;VALUE=DURATION:PT1H
X-Robots-Tag:noindex
X-PUBLISHED-TTL:PT1H
BEGIN:VTIMEZONE
TZID:Europe/Berlin
BEGIN:DAYLIGHT
TZOFFSETFROM:+0100
TZOFFSETTO:+0200
TZNAME:CEST
DTSTART:20150329T010000
END:DAYLIGHT
BEGIN:STANDARD
TZOFFSETFROM:+0200
TZOFFSETTO:+0100
TZNAME:CET
DTSTART:20151025T010000
END:STANDARD
BEGIN:DAYLIGHT
TZOFFSETFROM:+0100
TZOFFSETTO:+0200
TZNAME:CEST
DTSTART:20160327T010000
END:DAYLIGHT
BEGIN:STANDARD
TZOFFSETFROM:+0200
TZOFFSETTO:+0100
TZNAME:CET
DTSTART:20161030T010000
END:STANDARD
BEGIN:DAYLIGHT
TZOFFSETFROM:+0100
TZOFFSETTO:+0200
TZNAME:CEST
DTSTART:20170326T010000
END:DAYLIGHT
BEGIN:STANDARD
TZOFFSETFROM:+0200
TZOFFSETTO:+0100
TZNAME:CET
DTSTART:20171029T010000
END:STANDARD
BEGIN:DAYLIGHT
TZOFFSETFROM:+0100
TZOFFSETTO:+0200
TZNAME:CEST
DTSTART:20180325T010000
END:DAYLIGHT
BEGIN:STANDARD
TZOFFSETFROM:+0200
TZOFFSETTO:+0100
TZNAME:CET
DTSTART:20181028T010000
END:STANDARD
BEGIN:DAYLIGHT
TZOFFSETFROM:+0100
TZOFFSETTO:+0200
TZNAME:CEST
DTSTART:20190331T010000
END:DAYLIGHT
BEGIN:STANDARD
TZOFFSETFROM:+0200
TZOFFSETTO:+0100
TZNAME:CET
DTSTART:20191027T010000
END:STANDARD
BEGIN:DAYLIGHT
TZOFFSETFROM:+0100
TZOFFSETTO:+0200
TZNAME:CEST
DTSTART:20200329T010000
END:DAYLIGHT
BEGIN:STANDARD
TZOFFSETFROM:+0200
TZOFFSETTO:+0100
TZNAME:CET
DTSTART:20201025T010000
END:STANDARD
BEGIN:DAYLIGHT
TZOFFSETFROM:+0100
TZOFFSETTO:+0200
TZNAME:CEST
DTSTART:20210328T010000
END:DAYLIGHT
BEGIN:STANDARD
TZOFFSETFROM:+0200
TZOFFSETTO:+0100
TZNAME:CET
DTSTART:20211031T010000
END:STANDARD
BEGIN:DAYLIGHT
TZOFFSETFROM:+0100
TZOFFSETTO:+0200
TZNAME:CEST
DTSTART:20220327T010000
END:DAYLIGHT
BEGIN:STANDARD
TZOFFSETFROM:+0200
TZOFFSETTO:+0100
TZNAME:CET
DTSTART:20221030T010000
END:STANDARD
BEGIN:DAYLIGHT
TZOFFSETFROM:+0100
TZOFFSETTO:+0200
TZNAME:CEST
DTSTART:20230326T010000
END:DAYLIGHT
BEGIN:STANDARD
TZOFFSETFROM:+0200
TZOFFSETTO:+0100
TZNAME:CET
DTSTART:20231029T010000
END:STANDARD
BEGIN:DAYLIGHT
TZOFFSETFROM:+0100
TZOFFSETTO:+0200
TZNAME:CEST
DTSTART:20240331T010000
END:DAYLIGHT
BEGIN:STANDARD
TZOFFSETFROM:+0200
TZOFFSETTO:+0100
TZNAME:CET
DTSTART:20241027T010000
END:STANDARD
END:VTIMEZONE
BEGIN:VEVENT
DTSTART;TZID=Europe/Berlin:20230529T193000
DTEND;TZID=Europe/Berlin:20230529T220000
DTSTAMP:20260423T114954
CREATED:20230525T110048Z
LAST-MODIFIED:20230525T110048Z
UID:15433-1685388600-1685397600@afd-gottschalk.de
SUMMARY:Gastvortrag in Wermelskirchen
DESCRIPTION:Gastvortrag zum Thema Rente\, Geldknappheit und lebenspraktische Tipps für Bürger. \nAnmeldung unter info@afd-wk.de
URL:https://afd-gottschalk.de/veranstaltung/gastvortrag-in-wermelskirchen/
LOCATION:Bürgerhaus Wermelskirchen\, Eich 8\, Wermelskirchen\, 42929\, Deutschland
CATEGORIES:Öffentliche Veranstaltung
END:VEVENT
BEGIN:VEVENT
DTSTART;TZID=Europe/Berlin:20210819T183000
DTEND;TZID=Europe/Berlin:20210819T220000
DTSTAMP:20260423T114954
CREATED:20210806T103106Z
LAST-MODIFIED:20210806T103106Z
UID:15172-1629397800-1629410400@afd-gottschalk.de
SUMMARY:Wahlkampfveranstaltung in Ronnenberg-Gehrden
DESCRIPTION:
URL:https://afd-gottschalk.de/veranstaltung/wahlkampfveranstaltung-in-ronnenberg-gehrden/
CATEGORIES:Öffentliche Veranstaltung
END:VEVENT
BEGIN:VEVENT
DTSTART;TZID=Europe/Berlin:20210218T190000
DTEND;TZID=Europe/Berlin:20210218T210000
DTSTAMP:20260423T114954
CREATED:20210215T092108Z
LAST-MODIFIED:20210215T092108Z
UID:15049-1613674800-1613682000@afd-gottschalk.de
SUMMARY:Kandidaten Check
DESCRIPTION:
URL:https://afd-gottschalk.de/veranstaltung/kandidaten-check/
CATEGORIES:Bürgerabende mit Diskussion
END:VEVENT
BEGIN:VEVENT
DTSTART;TZID=Europe/Berlin:20210216T190000
DTEND;TZID=Europe/Berlin:20210216T210000
DTSTAMP:20260423T114954
CREATED:20210215T093352Z
LAST-MODIFIED:20210215T093352Z
UID:15053-1613502000-1613509200@afd-gottschalk.de
SUMMARY:
DESCRIPTION:
URL:https://afd-gottschalk.de/veranstaltung/15053/
END:VEVENT
BEGIN:VEVENT
DTSTART;TZID=Europe/Berlin:20210120T200000
DTEND;TZID=Europe/Berlin:20210120T213000
DTSTAMP:20260423T114954
CREATED:20210118T123647Z
LAST-MODIFIED:20210118T130511Z
UID:15032-1611172800-1611178200@afd-gottschalk.de
SUMMARY:Online-Neujahresempfang am 20.1.2021
DESCRIPTION:  \n\nGottschalk MdB / Baron MdL: Gemeinsame Online-Veranstaltung über Regierungsversagen im Fall Wirecard\n\n\nAm 20.1.2021 veranstaltet der Landtagsabgeordnete Anton Baron (AfD\, Wahlkreis Hohenlohe) ab 20 Uhr einen Online-Neujahrsempfang mit dem nordrhein-westfälischen Bundestagsabgeordneten Kay Gottschalk.\nHierzu lädt Baron alle interessierten Bürger herzlich ein: „Auf den Plattformen Facebook und Youtube unter Anton Baron MdL wird die Diskussion offen zu verfolgen sein und bietet außerdem die Möglichkeit zur direkten Nachfrage für die Bürger per Kommentar. Bereits vorab können Fragen an die E-Mail-Adresse anton.baron@afd-bw.de gerichtet werden. Nach einer kurzen Einführung zu meinen Themen bei der Landtagswahl wird es mit dem durch Regierungsversagen von Union und SPD verursachten Wirecard-Skandal um ein aktuelles Thema gehen\, für das Kay Gottschalk ein ausgewiesener Experte ist.“\n\n\nGottschalk ist nämlich der erste Vorsitzende eines Untersuchungsausschusses der AfD im Deutschen Bundestag: Er leitet seit drei Monaten den parlamentarischen Untersuchungsausschuss „Wirecard“. Bei genauerer Betrachtung entdeckt man bei der Causa Wirecard nicht nur einen Wirtschaftsbetrugsskandal und eine Affäre rund um das Versagen von deutschen Aufsichtsbehörden und Wirtschaftsprüfern\, sondern auch eine politische Affäre. Der Finanzstandort Deutschland hat durch diesen Vorgang bereits jetzt Schaden genommen.\n\n\nDer Ausschussvorsitzende Kay Gottschalk zum aktuellen Verfahren: „Immer klarer zeichnet sich das katastrophale Bild der BaFin ab\, bei der nicht nur ihr Präsident Felix Hufeld den Hut nehmen sollte. Die Finanzaufsichtsbehörde muss aus meiner Sicht grundlegend reformiert werden. Dazu gehören klare Durchgriffsrechte\, mehr Personal und ein besserer Austausch innerhalb der Behörde\, wo die Rechte weiß\, was die Linke tut und nicht mit Aktien des zu prüfenden Unternehmens gezockt werden kann.\n\n\nWeiter hat dieser Finanzskandal gezeigt\, dass es einer grundlegenden Reform bei den Wirtschaftsprüfern bedarf. Viel zu lange hat EY dem Unternehmen Testate ausstellen können\, trotz Warnungen von eigenen Mitarbeitern. Wir fordern daher eine 4-jährige Rotation\, damit fahrlässige oder vorsätzliche Fehler der Prüfer schneller aufgedeckt werden können und etwaige Bestechungen der Prüfer erst gar keinen Sinn ergeben.\n\n\nErgänzend bedarf es einer Reform des Handelsrechts. Bisher haften Abschlussprüfer bei börsennotierten Aktiengesellschaften nur mit maximal 4 Millionen Euro bei fahrlässigen Fehlern. Diese Haftung sollte deutlich erhöht werden. ‚Wirecard‘ hat wunderbar ein Staats- und Behördenversagen auf sämtlichen Ebenen aufgezeigt\, welches wir jetzt im Untersuchungsausschuss aufzudröseln versuchen.\n\n\nWas auffällt\, ist\, dass die Muster des Versagens immer dieselben sind. Es drängt sich der Eindruck auf\, dass diese Muster darauf abstellen\, Ministerien und Minister zu schützen und Verantwortung auf Geschäftsbereichsbehörden abgewälzt werden\, die oft rechtlich\, personell und technisch nicht in der Lage sind\, diesen auferlegten Aufgaben nachzukommen. Dass es sich dazu noch zu einem Krimi mit Geheimdiensten und merkwürdigsten Verstrickungen aller Art entwickelt\, konnte dagegen keiner erahnen.“\n\n\nDer Landtagsabgeordnete Anton Baron macht abschließend noch auf die soziale Dimension des Themas aufmerksam: „Man darf nicht vergessen\, dass durch diese skandalösen Vorgänge auch zahllose Kleinanleger um ihr Erspartes gebracht worden sind. Berichte über dieses Thema aus erster Hand sind deswegen sehr wichtig\, und dafür kann ich mir keinen Geeigneteren vorstellen als Herrn Gottschalk. Wir freuen uns sehr darauf\, am 20.1.2021 interessierten Bürgern mehr berichten zu dürfen und mit Ihnen über dieses Thema zu diskutieren.“
URL:https://afd-gottschalk.de/veranstaltung/online-jahresempfang/
CATEGORIES:Bürgerstammtisch
END:VEVENT
BEGIN:VEVENT
DTSTART;TZID=Europe/Berlin:20200824T190000
DTEND;TZID=Europe/Berlin:20200824T210000
DTSTAMP:20260423T114954
CREATED:20200812T123703Z
LAST-MODIFIED:20200812T123703Z
UID:14919-1598295600-1598302800@afd-gottschalk.de
SUMMARY:Online-Bürgerdialog mit Jörg Meuthen
DESCRIPTION:
URL:https://afd-gottschalk.de/veranstaltung/online-buergerdialog-mit-joerg-meuthen/
LOCATION:GoToMeeting
CATEGORIES:Bürgerabende mit Diskussion
END:VEVENT
BEGIN:VEVENT
DTSTART;TZID=Europe/Berlin:20200626T190000
DTEND;TZID=Europe/Berlin:20200626T210000
DTSTAMP:20260423T114954
CREATED:20200622T141544Z
LAST-MODIFIED:20200622T141544Z
UID:14871-1593198000-1593205200@afd-gottschalk.de
SUMMARY:Online-Bürgerdialog auf Facebook mit Kay Gottschalk und Sven Tritschler am 26.6.2020
DESCRIPTION:
URL:https://afd-gottschalk.de/veranstaltung/online-buergerdialog-auf-facebook-mit-kay-gottschalk-und-sven-tritschler-am-26-6-2020/
CATEGORIES:Bürgerabende mit Diskussion,Öffentliche Veranstaltung
END:VEVENT
BEGIN:VEVENT
DTSTART;TZID=Europe/Berlin:20200522T180000
DTEND;TZID=Europe/Berlin:20200522T200000
DTSTAMP:20260423T114954
CREATED:20200518T104940Z
LAST-MODIFIED:20200518T104940Z
UID:14827-1590170400-1590177600@afd-gottschalk.de
SUMMARY:Zweiter Online-Bürgerdialog am 22.5.2020
DESCRIPTION:
URL:https://afd-gottschalk.de/veranstaltung/zweiter-online-buergerdialog-am-22-5-2020/
CATEGORIES:Bürgerabende mit Diskussion
END:VEVENT
BEGIN:VEVENT
DTSTART;TZID=Europe/Berlin:20200430T180000
DTEND;TZID=Europe/Berlin:20200430T200000
DTSTAMP:20260423T114954
CREATED:20200427T092837Z
LAST-MODIFIED:20200427T092837Z
UID:14805-1588269600-1588276800@afd-gottschalk.de
SUMMARY:Demokratie in Zeiten von Corona - Online-Bürgerdialog
DESCRIPTION:
URL:https://afd-gottschalk.de/veranstaltung/demokratie-in-zeiten-von-corona-online-buergerdialog/
END:VEVENT
BEGIN:VEVENT
DTSTART;TZID=Europe/Berlin:20200205T183000
DTEND;TZID=Europe/Berlin:20200205T220000
DTSTAMP:20260423T114954
CREATED:20200203T145732Z
LAST-MODIFIED:20200203T145732Z
UID:14723-1580927400-1580940000@afd-gottschalk.de
SUMMARY:Neujahrsempfang am 5.2.2020 in meinem Wahlkreisbüro
DESCRIPTION:
URL:https://afd-gottschalk.de/veranstaltung/neujahrsempfang-am-5-2-2020-in-meinem-wahlkreisbuero/
LOCATION:Wahlkreisbüro\, Krefeld
END:VEVENT
BEGIN:VEVENT
DTSTART;TZID=Europe/Berlin:20200123T190000
DTEND;TZID=Europe/Berlin:20200123T220000
DTSTAMP:20260423T114954
CREATED:20191216T091356Z
LAST-MODIFIED:20191217T134915Z
UID:14669-1579806000-1579816800@afd-gottschalk.de
SUMMARY:Neujahresempfang in Viersen
DESCRIPTION:
URL:https://afd-gottschalk.de/veranstaltung/neujahresempfang-in-nettetal/
END:VEVENT
BEGIN:VEVENT
DTSTART;TZID=Europe/Berlin:20200110T183000
DTEND;TZID=Europe/Berlin:20200110T220000
DTSTAMP:20260423T114954
CREATED:20191128T142723Z
LAST-MODIFIED:20191128T142723Z
UID:14642-1578681000-1578693600@afd-gottschalk.de
SUMMARY:Neujahrsempfang in Bad Hersfeld am 10.1.2020
DESCRIPTION: 
URL:https://afd-gottschalk.de/veranstaltung/neujahrsempfang-in-bad-hersfeld-am-10-1-2020/
CATEGORIES:Bürgerabende mit Diskussion
END:VEVENT
BEGIN:VEVENT
DTSTART;TZID=Europe/Berlin:20191122T190000
DTEND;TZID=Europe/Berlin:20191122T220000
DTSTAMP:20260423T114954
CREATED:20191121T124658Z
LAST-MODIFIED:20191121T124658Z
UID:14617-1574449200-1574460000@afd-gottschalk.de
SUMMARY:Mut zu Deutschland-Bürgerdialog mit Norbert Kleinwächter in Berlin
DESCRIPTION:
URL:https://afd-gottschalk.de/veranstaltung/mut-zu-deutschland-buergerdialog-mit-norbert-kleinwaechter-in-berlin/
END:VEVENT
BEGIN:VEVENT
DTSTART;TZID=Europe/Berlin:20191121T190000
DTEND;TZID=Europe/Berlin:20191121T220000
DTSTAMP:20260423T114954
CREATED:20191017T152742Z
LAST-MODIFIED:20191017T152742Z
UID:14543-1574362800-1574373600@afd-gottschalk.de
SUMMARY:Bürgerdialog in Bottrop 21.11.2019
DESCRIPTION:
URL:https://afd-gottschalk.de/veranstaltung/buergerdialog-in-bottrop-21-11-2019/
CATEGORIES:Bürgerabende mit Diskussion
END:VEVENT
BEGIN:VEVENT
DTSTART;TZID=Europe/Berlin:20191106T180000
DTEND;TZID=Europe/Berlin:20191106T213000
DTSTAMP:20260423T114954
CREATED:20191017T120101Z
LAST-MODIFIED:20191017T120101Z
UID:14538-1573063200-1573075800@afd-gottschalk.de
SUMMARY:Bürgersprechstunde in Wittenberg am 6.11.2019 ab 18 Uhr
DESCRIPTION:
URL:https://afd-gottschalk.de/veranstaltung/buergersprechstunde-in-wittenberg-am-6-11-2019-ab-18-uhr/
LOCATION:Haus der Handwerke\, Wittenberg\, Deutschland
CATEGORIES:Bürgerabende mit Diskussion
END:VEVENT
BEGIN:VEVENT
DTSTART;TZID=Europe/Berlin:20190608T100000
DTEND;TZID=Europe/Berlin:20190608T170000
DTSTAMP:20260423T114954
CREATED:20190605T115632Z
LAST-MODIFIED:20190605T115632Z
UID:14356-1559988000-1560013200@afd-gottschalk.de
SUMMARY:AfD Fraktionsstand in Bad Salzuflen
DESCRIPTION:Ich werde am Samstag vor Ort sein. Die Messezeiten sind jeweils zwischen 10 Uhr und 17 Uhr. Wir würden uns sehr über Ihren Besuch freuen!
URL:https://afd-gottschalk.de/veranstaltung/afd-fraktionsstand-in-bad-salzuflen/
CATEGORIES:Öffentliche Veranstaltung
END:VEVENT
BEGIN:VEVENT
DTSTART;TZID=Europe/Berlin:20190316T150000
DTEND;TZID=Europe/Berlin:20190316T190000
DTSTAMP:20260423T114954
CREATED:20190213T120346Z
LAST-MODIFIED:20190213T120346Z
UID:14148-1552748400-1552762800@afd-gottschalk.de
SUMMARY:Kaffeeklatsch im Wahlkreisbüro am 16.3.2019
DESCRIPTION:
URL:https://afd-gottschalk.de/veranstaltung/kaffeeklatsch-im-wahlkreisbuero-am-16-3-2019/
END:VEVENT
BEGIN:VEVENT
DTSTART;TZID=Europe/Berlin:20190306T190000
DTEND;TZID=Europe/Berlin:20190306T220000
DTSTAMP:20260423T114954
CREATED:20190213T114922Z
LAST-MODIFIED:20190213T114922Z
UID:14145-1551898800-1551909600@afd-gottschalk.de
SUMMARY:Politischer Aschermittwoch in Düsseldorf
DESCRIPTION:
URL:https://afd-gottschalk.de/veranstaltung/politischer-aschermittwoch-in-duesseldorf/
CATEGORIES:Bürgerabende mit Diskussion,Öffentliche Veranstaltung,Vorträge
END:VEVENT
BEGIN:VEVENT
DTSTART;TZID=Europe/Berlin:20190303T100000
DTEND;TZID=Europe/Berlin:20190303T123000
DTSTAMP:20260423T114954
CREATED:20190213T121654Z
LAST-MODIFIED:20190213T121654Z
UID:14151-1551607200-1551616200@afd-gottschalk.de
SUMMARY:Politik Brunch des Mittelstandsforums am 3.3.02019 in Bottrop
DESCRIPTION:
URL:https://afd-gottschalk.de/veranstaltung/politik-brunch-des-mittelstandsforums-am-3-3-02019-in-bottrop/
CATEGORIES:Vorträge
END:VEVENT
BEGIN:VEVENT
DTSTART;TZID=Europe/Berlin:20190124T190000
DTEND;TZID=Europe/Berlin:20190124T220000
DTSTAMP:20260423T114954
CREATED:20181210T161149Z
LAST-MODIFIED:20181210T161440Z
UID:14026-1548356400-1548367200@afd-gottschalk.de
SUMMARY:Neujahrsempfang am 24.1.2019 in Krefeld
DESCRIPTION:Anmeldung erforderlich unter: sprecher@afd-krefeld.de
URL:https://afd-gottschalk.de/veranstaltung/neujahrsempfang-am-24-1-2019-in-krefeld/
END:VEVENT
BEGIN:VEVENT
DTSTART;TZID=Europe/Berlin:20180921T190000
DTEND;TZID=Europe/Berlin:20180921T220000
DTSTAMP:20260423T114954
CREATED:20180919T115710Z
LAST-MODIFIED:20180919T115710Z
UID:13862-1537556400-1537567200@afd-gottschalk.de
SUMMARY:Wahlkampfveranstaltung in Hessen am 21.9.2018
DESCRIPTION:Nach dem großen Erfolg mit dem sonntäglichen Kaffeetrinken mit Alice Weidel und Bea von Storch\, setzen wir nun ein weiteres für uns neues Format um. \n5 MdB auf der Bühne in Giessen im Gespräch.\nModeration: Dominik B. Class. \nOrt: Mehrzweckhalle Giessen-Allendorf\nTag und Zeit: Freitag\, 21.9.2018\, Einlaß ab 18:00 (Beginn 19:00) \nTeilnehmer: \n– Martin Hohmann: Vertrieben aus dem Bundestag durch Merkel und prominente Mitspieler: Er wird hierüber berichten. \n– Roman Reusch: Als Leitender Oberstaatsanwalt in Berlin erkannte er sehr früh die gesteigerte kriminelle Energie\, die von jungen Migranten ausgeht – und er platzierte seine Kritik zum Zorn seiner Vorgesetzten \n– Kay Gottschalk: Ehemals SPD-Mitglied\, engagiert im BT-Finanzausschuss und mit klarer Meinung zur Renten- und Sozialpolitik \n– Jan Nolte: Einer unserer jüngsten MdB\, Ex-Soldat und Mitglied im Verteidigungsausschuss \n– Joana Cotar: Aus unserem Kreisverband kommend und im Ausschuss Digitale Agenda vor allem zuständig für Soziale Medien
URL:https://afd-gottschalk.de/veranstaltung/wahlkampfveranstaltung-in-hessen-am-21-9-2018/
END:VEVENT
BEGIN:VEVENT
DTSTART;TZID=Europe/Berlin:20180828T190000
DTEND;TZID=Europe/Berlin:20180828T213000
DTSTAMP:20260423T114954
CREATED:20180820T092413Z
LAST-MODIFIED:20180820T092413Z
UID:13819-1535482800-1535491800@afd-gottschalk.de
SUMMARY:Stammtisch in Moers am 28.08.2018
DESCRIPTION:Ich freue mich sehr auf den Stammtisch in Moers mit hoffentlich vielen Fragen und angeregten Gesprächen. Vielen Dank für die Einladung des Stadtverbandes Moers.
URL:https://afd-gottschalk.de/veranstaltung/stammtisch-in-moers-am-28-08-2018/
END:VEVENT
BEGIN:VEVENT
DTSTART;VALUE=DATE:20180825
DTEND;VALUE=DATE:20180826
DTSTAMP:20260423T114954
CREATED:20180820T091622Z
LAST-MODIFIED:20180820T091622Z
UID:13816-1535155200-1535241599@afd-gottschalk.de
SUMMARY:Sommerfest des KV Hannover-Stadt am 25.8.2018
DESCRIPTION:Vielen Dank für die Einladung von Jörn König zu diesem Fest und ich freue mich sehr auf einen interessanten Nachmittag mit vielen anregenden Gesprächen!
URL:https://afd-gottschalk.de/veranstaltung/sommerfest-des-kv-hannover-stadt-am-25-8-2018/
END:VEVENT
BEGIN:VEVENT
DTSTART;TZID=Europe/Berlin:20180618T160000
DTEND;TZID=Europe/Berlin:20180618T190000
DTSTAMP:20260423T114954
CREATED:20180503T143105Z
LAST-MODIFIED:20180503T143947Z
UID:13690-1529337600-1529348400@afd-gottschalk.de
SUMMARY:Bürgersprechstunde am 18.6.2018 mit Kay Gottschalk und Herbert Strotebeck
DESCRIPTION:Am 18.6.2018 veranstalten wir unsere zweite Bürgersprechstunde\, dieses Mal mit unserem Landtagsabgeordneten Herbert Strotebeck. Wir freuen uns auf viele gute und interessante Gespräche  zu Themen Ihrer Wahl. Ab 16 Uhr sind wir für Sie da! \nAnmeldungen unter: kay.gottschalk.ma02@bundestag.de
URL:https://afd-gottschalk.de/veranstaltung/buergersprechstunde-am-18-6-2018-mit-kay-gottschalk-und-herbert-strotebeck/
ATTACH;FMTTYPE=image/jpeg:https://afd-gottschalk.de/wp-content/uploads/2018/02/IMG_52772.jpg
END:VEVENT
BEGIN:VEVENT
DTSTART;TZID=Europe/Berlin:20180504T190000
DTEND;TZID=Europe/Berlin:20180504T223000
DTSTAMP:20260423T114954
CREATED:20180328T102708Z
LAST-MODIFIED:20180328T103308Z
UID:13593-1525460400-1525473000@afd-gottschalk.de
SUMMARY:Vortragsabend in Mönchengladbach mit Kay Gottschalk und Rüdiger Lucassen
DESCRIPTION:Anmeldung unter: kay.gottschalk.ma02@bundestag.de
URL:https://afd-gottschalk.de/veranstaltung/vortragsabend-in-moenchengladbach-mit-kay-gottschalk-und-ruediger-lucassen/
END:VEVENT
BEGIN:VEVENT
DTSTART;TZID=Europe/Berlin:20180327T140000
DTEND;TZID=Europe/Berlin:20180327T173000
DTSTAMP:20260423T114954
CREATED:20180301T100056Z
LAST-MODIFIED:20180301T100310Z
UID:13532-1522159200-1522171800@afd-gottschalk.de
SUMMARY:Bürgersprechstunde im Wahlkreisbüro Krefeld mit Kay Gottschalk\, MdB und Dr. Martin Vincentz\, MdL
DESCRIPTION:
URL:https://afd-gottschalk.de/veranstaltung/buergersprechstunde-im-wahlkreisbuero-krefeld/
END:VEVENT
BEGIN:VEVENT
DTSTART;TZID=Europe/Berlin:20180306T183000
DTEND;TZID=Europe/Berlin:20180306T220000
DTSTAMP:20260423T114954
CREATED:20180226T130705Z
LAST-MODIFIED:20180226T130902Z
UID:13507-1520361000-1520373600@afd-gottschalk.de
SUMMARY:Berliner Arena am 6.3.2018
DESCRIPTION:
URL:https://afd-gottschalk.de/veranstaltung/danke-fuer-die-einladung/
END:VEVENT
BEGIN:VEVENT
DTSTART;TZID=Europe/Berlin:20180222T180000
DTEND;TZID=Europe/Berlin:20180222T230000
DTSTAMP:20260423T114954
CREATED:20180213T082512Z
LAST-MODIFIED:20180213T082512Z
UID:13460-1519322400-1519340400@afd-gottschalk.de
SUMMARY:Bürgerstammtisch in Duisburg am 22.2.2018
DESCRIPTION:
URL:https://afd-gottschalk.de/veranstaltung/buergerstammtisch-in-duisburg-am-22-2-2018/
CATEGORIES:Bürgerstammtisch
END:VEVENT
BEGIN:VEVENT
DTSTART;TZID=Europe/Berlin:20180210T100000
DTEND;TZID=Europe/Berlin:20180210T180000
DTSTAMP:20260423T114954
CREATED:20180118T110958Z
LAST-MODIFIED:20180118T110958Z
UID:13410-1518256800-1518285600@afd-gottschalk.de
SUMMARY:Eröffnung meines Wahlkreisbüros in Krefeld
DESCRIPTION:Liebe Parteifreunde\, Unterstützer und Wegbegleiter\, \nmein Team und ich laden Sie herzlich zu der Einweihung meines Wahlkreisbüros in Krefeld ein.\nAm 10.2.2018 von 10 Uhr bis 18 Uhr ist uns jeder herzlich willkommen\, der sich in unseren Räumlichkeiten umsehen und sich über mich und meine Aktivitäten informieren möchte. Wir beantworten gerne all Ihre Fragen und für das leibliche Wohl wird auch gesorgt sein.…\nLassen Sie uns gute Gespräche führen und ein paar nette Stunden miteinander verbringen. \n\nMein Team und ich freuen uns auf Ihren Besuch\, \nKay Gottschalk\, MdB
URL:https://afd-gottschalk.de/veranstaltung/eroeffnung-meines-wahlkreisbueros-in-krefeld/
END:VEVENT
BEGIN:VEVENT
DTSTART;TZID=Europe/Berlin:20161022T170000
DTEND;TZID=Europe/Berlin:20161022T220000
DTSTAMP:20260423T114954
CREATED:20161015T201056Z
LAST-MODIFIED:20161015T201056Z
UID:13314-1477155600-1477173600@afd-gottschalk.de
SUMMARY:Lernen Sie mich kennen
DESCRIPTION:
URL:https://afd-gottschalk.de/veranstaltung/lernen-sie-mich-kennen-3/
LOCATION:Marktplatz Wolfen\, Dessauer Allee\, Wolfen\, Sachsen-Anhalt\, Deutschland
CATEGORIES:Öffentliche Veranstaltung
END:VEVENT
END:VCALENDAR